BEGIN:VCALENDAR
VERSION:2.0
PRODID:-//Contratero//ES
CALSCALE:GREGORIAN
METHOD:PUBLISH
BEGIN:VEVENT
UID:2025/12/E/LICENCIAS ADOBE@contratero.es
DTSTAMP:20260421T072354Z
DTSTART:20250922T235959
DTEND:20250923T005959
SUMMARY:Cierre: Contratación del suministro de 10 licencias del so
DESCRIPTION:Contratación del suministro de 10 licencias del software adobe acrobat pro for teams\\n\\nOrganismo: Dirección General de la Sociedad Española para la Transformación Tecnológica\, E.P.E.\\n\\nVer en Contratero: https://contratero.es/contracts/2025/12/E/LICENCIAS ADOBE
URL:https://contratero.es/contracts/2025/12/E/LICENCIAS ADOBE
STATUS:CONFIRMED
BEGIN:VALARM
TRIGGER:-P1D
ACTION:DISPLAY
DESCRIPTION:Recordatorio: Contratación del suministro de
END:VALARM
END:VEVENT
END:VCALENDAR